BEGIN:VCALENDAR
VERSION:2.0
PRODID:-//Gsss - ECPv6.15.18//NONSGML v1.0//EN
CALSCALE:GREGORIAN
METHOD:PUBLISH
X-WR-CALNAME:Gsss
X-ORIGINAL-URL:https://gsssietw.ac.in
X-WR-CALDESC:Events for Gsss
REFRESH-INTERVAL;VALUE=DURATION:PT1H
X-Robots-Tag:noindex
X-PUBLISHED-TTL:PT1H
BEGIN:VTIMEZONE
TZID:Asia/Kolkata
BEGIN:STANDARD
TZOFFSETFROM:+0530
TZOFFSETTO:+0530
TZNAME:IST
DTSTART:20250101T000000
END:STANDARD
END:VTIMEZONE
BEGIN:VTIMEZONE
TZID:UTC
BEGIN:STANDARD
TZOFFSETFROM:+0000
TZOFFSETTO:+0000
TZNAME:UTC
DTSTART:20230101T000000
END:STANDARD
END:VTIMEZONE
BEGIN:VEVENT
DTSTART;VALUE=DATE:20260410
DTEND;VALUE=DATE:20260412
DTSTAMP:20260419T221453
CREATED:20260314T135832Z
LAST-MODIFIED:20260314T135832Z
UID:32513-1775779200-1775951999@gsssietw.ac.in
SUMMARY:A 24 Hour National Level Women Coder Hackathon on 10th & 11th April 2026
DESCRIPTION:﻿
URL:https://gsssietw.ac.in/event/a-24-hour-national-level-women-coder-hackathon-on-10th-11th-april-2026/
CATEGORIES:events
END:VEVENT
BEGIN:VEVENT
DTSTART;TZID=Asia/Kolkata:20260310T103000
DTEND;TZID=Asia/Kolkata:20260310T170000
DTSTAMP:20260419T221453
CREATED:20260307T105241Z
LAST-MODIFIED:20260307T111036Z
UID:32101-1773138600-1773162000@gsssietw.ac.in
SUMMARY:International Women's Day-2026 on 10th March 2026
DESCRIPTION:
URL:https://gsssietw.ac.in/event/international-womens-day-2026-on-10th-march-2026/
CATEGORIES:events
END:VEVENT
BEGIN:VEVENT
DTSTART;VALUE=DATE:20240216
DTEND;VALUE=DATE:20240217
DTSTAMP:20260419T221453
CREATED:20240227T065042Z
LAST-MODIFIED:20250304T053818Z
UID:3404-1708041600-1708127999@gsssietw.ac.in
SUMMARY:VTU State level Throw ball Championship 2023-24 on 16th Feb 2024
DESCRIPTION:
URL:https://gsssietw.ac.in/event/vtu-state-level-throw-ball-championship-2023-24-on-16th-feb-2024/
CATEGORIES:events
END:VEVENT
BEGIN:VEVENT
DTSTART;VALUE=DATE:20240215
DTEND;VALUE=DATE:20240216
DTSTAMP:20260419T221453
CREATED:20240227T043805Z
LAST-MODIFIED:20260226T114316Z
UID:3160-1707955200-1708041599@gsssietw.ac.in
SUMMARY:VTU Intercollegiate Mysore Zone Throw ball Tournament 2023-24 on 15th Feb 2024
DESCRIPTION:
URL:https://gsssietw.ac.in/event/vtu-intercollegiate-mysore-zone-throw-ball-tournament-2023-24-on-15th-feb-2024/
CATEGORIES:events
END:VEVENT
END:VCALENDAR